BEGIN:VCALENDAR
VERSION:2.0
PRODID:-//Association Voisinage - ECPv6.15.20//NONSGML v1.0//EN
CALSCALE:GREGORIAN
METHOD:PUBLISH
X-ORIGINAL-URL:https://voisinage.net
X-WR-CALDESC:Évènements pour Association Voisinage
REFRESH-INTERVAL;VALUE=DURATION:PT1H
X-Robots-Tag:noindex
X-PUBLISHED-TTL:PT1H
BEGIN:VTIMEZONE
TZID:Europe/Paris
BEGIN:DAYLIGHT
TZOFFSETFROM:+0100
TZOFFSETTO:+0200
TZNAME:CEST
DTSTART:20180325T010000
END:DAYLIGHT
BEGIN:STANDARD
TZOFFSETFROM:+0200
TZOFFSETTO:+0100
TZNAME:CET
DTSTART:20181028T010000
END:STANDARD
BEGIN:DAYLIGHT
TZOFFSETFROM:+0100
TZOFFSETTO:+0200
TZNAME:CEST
DTSTART:20190331T010000
END:DAYLIGHT
BEGIN:STANDARD
TZOFFSETFROM:+0200
TZOFFSETTO:+0100
TZNAME:CET
DTSTART:20191027T010000
END:STANDARD
BEGIN:DAYLIGHT
TZOFFSETFROM:+0100
TZOFFSETTO:+0200
TZNAME:CEST
DTSTART:20200329T010000
END:DAYLIGHT
BEGIN:STANDARD
TZOFFSETFROM:+0200
TZOFFSETTO:+0100
TZNAME:CET
DTSTART:20201025T010000
END:STANDARD
END:VTIMEZONE
BEGIN:VEVENT
DTSTART;VALUE=DATE:20191130
DTEND;VALUE=DATE:20191205
DTSTAMP:20260424T122253
CREATED:20191126T092001Z
LAST-MODIFIED:20191126T092001Z
UID:12985-1575072000-1575503999@voisinage.net
SUMMARY:Fermeture Recyclerie TYROSSE
DESCRIPTION:
URL:https://voisinage.net/event/fermeture-recyclerie-tyrosse/
LOCATION:Voisinage Tyrosse\, rue des Lauriers\, Saint-Vincent-de-Tyrosse\, Landes\, 40230\, France
CATEGORIES:Recyclerie
ATTACH;FMTTYPE=image/jpeg:https://voisinage.net/wp-content/uploads/2019/11/annonce-fermeture.jpg
ORGANIZER;CN="Association Voisinage":MAILTO:contact@voisinage.net
END:VEVENT
BEGIN:VEVENT
DTSTART;TZID=Europe/Paris:20191120T100000
DTEND;TZID=Europe/Paris:20191120T173000
DTSTAMP:20260424T122253
CREATED:20191118T110113Z
LAST-MODIFIED:20191118T110113Z
UID:12762-1574244000-1574271000@voisinage.net
SUMMARY:Braderie Mobilier Recyclerie
DESCRIPTION:Tous les mercredis de novembre\, c’est braderie sur le mobilier à la Recyclerie VOISINAGE de Soustons (avenue de cramat) et de Tyrosse (rue des Lauriers). \nTous les meubles sont à -50% !!!!!!!
URL:https://voisinage.net/event/braderie-mobilier-recyclerie/
LOCATION:Recyclerie Voisinage\, 18 A Rue de Moscou\, Soustons\, Landes\, 40140\, France
CATEGORIES:Recyclerie
ATTACH;FMTTYPE=image/jpeg:https://voisinage.net/wp-content/uploads/2019/10/braderie-mobilier.jpg
ORGANIZER;CN="Association Voisinage":MAILTO:contact@voisinage.net
END:VEVENT
BEGIN:VEVENT
DTSTART;VALUE=DATE:20190816
DTEND;VALUE=DATE:20190818
DTSTAMP:20260424T122253
CREATED:20190812T123041Z
LAST-MODIFIED:20190812T123041Z
UID:10666-1565913600-1566086399@voisinage.net
SUMMARY:Opération Grand Déballage Soustons
DESCRIPTION:Vendredi 16 et samedi 17 août\, grande opération Grand Déballage à la Recyclerie VOISINAGE de Soustons. \nHoraires : 9h30-16h30 non stop \nTout le textile\, linge de maison\, les bijoux\, accessoires et chaussures : 1€ pièce. \nTout le mobilier\, les livres\, la vaisselle\, les bibelots\, les jouets\, la déco : -50%
URL:https://voisinage.net/event/operation-grand-deballage-soustons/
LOCATION:Voisinage Soustons\, 18 A rue de Moscou\, Soustons\, Landes\, 40140\, France
CATEGORIES:Recyclerie
ATTACH;FMTTYPE=image/jpeg:https://voisinage.net/wp-content/uploads/2019/08/67578389_2252842058148299_8711306794372169728_n.jpg
ORGANIZER;CN="Association Voisinage":MAILTO:contact@voisinage.net
END:VEVENT
BEGIN:VEVENT
DTSTART;VALUE=DATE:20190702
DTEND;VALUE=DATE:20190707
DTSTAMP:20260424T122253
CREATED:20190705T210431Z
LAST-MODIFIED:20190705T210431Z
UID:10324-1562025600-1562457599@voisinage.net
SUMMARY:Braderie Livres
DESCRIPTION:Braderie sur les livres à la Recyclerie Voisinage de Soustons du 2 au 6 juillet 2019 !
URL:https://voisinage.net/event/braderie-livres/
LOCATION:Voisinage Soustons\, 18 A rue de Moscou\, Soustons\, Landes\, 40140\, France
CATEGORIES:Recyclerie
ATTACH;FMTTYPE=image/jpeg:https://voisinage.net/wp-content/uploads/2019/06/Vente-livres.jpg
END:VEVENT
BEGIN:VEVENT
DTSTART;TZID=Europe/Paris:20190504T100000
DTEND;TZID=Europe/Paris:20190511T174500
DTSTAMP:20260424T122253
CREATED:20190503T092001Z
LAST-MODIFIED:20190503T092004Z
UID:8775-1556964000-1557596700@voisinage.net
SUMMARY:Braderie Mobilier Soustons
DESCRIPTION:Du samedi 4 au samedi 11 mai 2019 à la Recyclerie Voisinage de Soustons\, coup de folie sur les meubles : toutes les tables\, les assises\, les meubles de rangements ou de couchages sont à -50% ! L’occasion de faire de très bonnes affaires. \n\nOffre valable uniquement sur le mobilier et uniquement sur Soustons\nEn conséquence\, la boutique de Tyrosse sera fermée les samedis 4 et 11 mai.
URL:https://voisinage.net/event/braderie-mobilier-soustons/
LOCATION:Voisinage Soustons\, 18 A rue de Moscou\, Soustons\, Landes\, 40140\, France
CATEGORIES:Recyclerie
ATTACH;FMTTYPE=image/jpeg:https://voisinage.net/wp-content/uploads/2019/05/braderie-mobilier-mai-2019.jpg
END:VEVENT
BEGIN:VEVENT
DTSTART;TZID=Europe/Paris:20190309T093000
DTEND;TZID=Europe/Paris:20190309T163000
DTSTAMP:20260424T122253
CREATED:20190219T103347Z
LAST-MODIFIED:20190219T103347Z
UID:7132-1552123800-1552149000@voisinage.net
SUMMARY:Opération Grand Déballage
DESCRIPTION:La prochaine opération Grand Déballage de la Recyclerie VOISINAGE se tiendra le samedi 9 mars à Saint-Vincent-de-Tyrosse. \nJournée spéciale en continue = 9h30 – 16h30 👍 \n\nTout le textile (homme\, femme\, enfant\, sacs\, chaussures\, bijoux… ) = 1€ pièce ✨ \nTout le reste (meubles\, livre\, vaisselle\, bibelot\, matériel puériculture…) = -50% du tarif habituel ✨ \nLa boutique de Tyrosse sera fermée le vendredi 8 mars pour permettre aux équipes de préparer cette journée de Grand Déballage.
URL:https://voisinage.net/event/operation-grand-deballage/
LOCATION:Voisinage Tyrosse\, rue des Lauriers\, Saint-Vincent-de-Tyrosse\, Landes\, 40230\, France
CATEGORIES:Recyclerie
ATTACH;FMTTYPE=image/jpeg:https://voisinage.net/wp-content/uploads/2019/02/GD-Tyrosse-mars-2019.jpg
END:VEVENT
END:VCALENDAR